BEGIN:VCALENDAR
VERSION:2.0
PRODID:-//Westbranch Sportsmen&#039;s Club - ECPv6.15.20//NONSGML v1.0//EN
CALSCALE:GREGORIAN
METHOD:PUBLISH
X-WR-CALNAME:Westbranch Sportsmen&#039;s Club
X-ORIGINAL-URL:https://www.westbranchsportsmensclub.com
X-WR-CALDESC:Events for Westbranch Sportsmen&#039;s Club
REFRESH-INTERVAL;VALUE=DURATION:PT1H
X-Robots-Tag:noindex
X-PUBLISHED-TTL:PT1H
BEGIN:VTIMEZONE
TZID:UTC
BEGIN:STANDARD
TZOFFSETFROM:+0000
TZOFFSETTO:+0000
TZNAME:UTC
DTSTART:20240101T000000
END:STANDARD
END:VTIMEZONE
BEGIN:VEVENT
DTSTART;TZID=UTC:20250213T160000
DTEND;TZID=UTC:20250213T190000
DTSTAMP:20260425T164215
CREATED:20250213T183746Z
LAST-MODIFIED:20250213T185500Z
UID:712-1739462400-1739473200@www.westbranchsportsmensclub.com
SUMMARY:U.P. Predator Challenge Banquette and Hunt Start February 13th 4-7 P.M.
DESCRIPTION:Thursday February 13th \nSkandia Township Community Center \n224 Kreiger Drive\, Skandia \n4-7 p.m. Registration/*Mandatory Check-In* \n4:30-7 p.m. Pasty Dinner \n6-7 p.m. Rules. Intro & Door Prizes \n7-7:30 p.m. DNR Q&A \n7:30 p.m. Hunt begins ** NO EARLY STARTS**
URL:https://www.westbranchsportsmensclub.com/index.php/event/u-p-predator-challenge-banquette-and-hunt-start-february-13th-4-7-p-m/
LOCATION:Skandia Township Community\, 224 Krieger Drive\, Skandia\, MI\, 498855\, United States
END:VEVENT
BEGIN:VEVENT
DTSTART;TZID=UTC:20250216T110000
DTEND;TZID=UTC:20250216T160000
DTSTAMP:20260425T164215
CREATED:20250213T184003Z
LAST-MODIFIED:20250213T184451Z
UID:714-1739703600-1739721600@www.westbranchsportsmensclub.com
SUMMARY:U.P. Predator Challenge Weigh in Sunday February 16th 11-4
DESCRIPTION:Sunday February 16th \nWest Branch Sportsmen’s ‘s Club \n1888 Engman Lake Rd\, Skandia\n11 a.m.-2 p.m. Hunter check-In \n12-2 p.m. Burger\, brats\, coffee and pop available \n2 p.m. SHARP! Gate Closes! \n3 p.m. Prizes awarded
URL:https://www.westbranchsportsmensclub.com/index.php/event/u-p-predator-challenge-weigh-in-sunday-february-16th-11-4/
LOCATION:WBSC\, 1888 Engman Lake Rd\, Skandia\, MI\, 49885\, United States
END:VEVENT
BEGIN:VEVENT
DTSTART;TZID=UTC:20250322T080000
DTEND;TZID=UTC:20250322T170000
DTSTAMP:20260425T164215
CREATED:20250213T181255Z
LAST-MODIFIED:20250213T181255Z
UID:709-1742630400-1742662800@www.westbranchsportsmensclub.com
SUMMARY:March 22nd First WBSC Active Pistol Match
DESCRIPTION:March 22nd First WBSC Active Pistol Match more details to folow. Check back
URL:https://www.westbranchsportsmensclub.com/index.php/event/march-22nd-first-wbsc-active-pistol-match/
LOCATION:WBSC\, 1888 Engman Lake Rd\, Skandia\, MI\, 49885\, United States
END:VEVENT
BEGIN:VEVENT
DTSTART;TZID=UTC:20250527T173000
DTEND;TZID=UTC:20250527T190000
DTSTAMP:20260425T164215
CREATED:20250506T144315Z
LAST-MODIFIED:20250519T144440Z
UID:778-1748367000-1748372400@www.westbranchsportsmensclub.com
SUMMARY:Tuesday pistol nights. 5:30 PM.
DESCRIPTION:Planning to resume Tuesday pistol nights. 5:30 PM.\n\n\nNo charge for members.\nNon-members $5/night\, $20/ family of 4+.\n\n\n1st part will be marksmanship skills\, 2nd half teaching simple action pistol drills.\n\n\nAvery 906-249-9205
URL:https://www.westbranchsportsmensclub.com/index.php/event/tuesday-pistol-nights-may-6th-530-pm/
LOCATION:WBSC\, 1888 Engman Lake Rd\, Skandia\, MI\, 49885\, United States
END:VEVENT
BEGIN:VEVENT
DTSTART;TZID=UTC:20250528T170000
DTEND;TZID=UTC:20250528T190000
DTSTAMP:20260425T164215
CREATED:20250422T202936Z
LAST-MODIFIED:20250519T144337Z
UID:774-1748451600-1748458800@www.westbranchsportsmensclub.com
SUMMARY:Silhouette Shoot Wednesday's!!!
DESCRIPTION:Silhouette Shoot at the club Wednesday’s at 5:00\, if you have questions contact Jack Ford at 906-942-7976.
URL:https://www.westbranchsportsmensclub.com/index.php/event/silhouette-shoot/
LOCATION:WBSC\, 1888 Engman Lake Rd\, Skandia\, MI\, 49885\, United States
END:VEVENT
BEGIN:VEVENT
DTSTART;TZID=UTC:20250529T080000
DTEND;TZID=UTC:20250529T170000
DTSTAMP:20260425T164215
CREATED:20250519T144751Z
LAST-MODIFIED:20250519T144759Z
UID:786-1748505600-1748538000@www.westbranchsportsmensclub.com
SUMMARY:Trap Shoot Every Thursday Night!!!
DESCRIPTION:Trap shooting Thursday’s at around 5 or 5:30. Come out and join us for some fun and practice shooting.
URL:https://www.westbranchsportsmensclub.com/index.php/event/trap-shoot-every-thursday-night/
LOCATION:WBSC\, 1888 Engman Lake Rd\, Skandia\, MI\, 49885\, United States
END:VEVENT
BEGIN:VEVENT
DTSTART;TZID=UTC:20250628T080000
DTEND;TZID=UTC:20250628T170000
DTSTAMP:20260425T164215
CREATED:20250620T171942Z
LAST-MODIFIED:20250620T172222Z
UID:799-1751097600-1751130000@www.westbranchsportsmensclub.com
SUMMARY:CPL Class June 28th Offered by Jerry Kasten
DESCRIPTION:CPL class is June 28\, 9am to 6pm\, $125. Location is West Branch Sportsman’s Club. Message for more details.
URL:https://www.westbranchsportsmensclub.com/index.php/event/cpl-class-june-28th-offered-by-jerry-kasten/
LOCATION:WBSC\, 1888 Engman Lake Rd\, Skandia\, MI\, 49885\, United States
END:VEVENT
BEGIN:VEVENT
DTSTART;TZID=UTC:20250718T170000
DTEND;TZID=UTC:20250718T180000
DTSTAMP:20260425T164215
CREATED:20250718T181722Z
LAST-MODIFIED:20250718T181838Z
UID:816-1752858000-1752861600@www.westbranchsportsmensclub.com
SUMMARY:Meet With Joseph Kozub about expanding Classes at WBSC Tonight 5 PM
DESCRIPTION:Meet With Joseph Kozub about expanding Classes at WBSC Tonight 5 PM come take part in the discussion at the Club House tonight !
URL:https://www.westbranchsportsmensclub.com/index.php/event/meet-with-joseph-kozub-about-expanding-classes-at-wbsc-tonight-5-pm/
LOCATION:WBSC\, 1888 Engman Lake Rd\, Skandia\, MI\, 49885\, United States
ORGANIZER;CN="John Conrad":MAILTO:ironbayjohn@yahoo.com
END:VEVENT
BEGIN:VEVENT
DTSTART;TZID=UTC:20250904T090000
DTEND;TZID=UTC:20250904T180000
DTSTAMP:20260425T164215
CREATED:20250902T134153Z
LAST-MODIFIED:20250902T134153Z
UID:834-1756976400-1757008800@www.westbranchsportsmensclub.com
SUMMARY:Michigan CPL Class\, Thursday Sep 4th\, 9am to 6pm.
DESCRIPTION:Michigan CPL Class\, Thursday Sep 4th\, 9am to 6pm. Cost is $125. If you need to renew a license you can take the morning session for your 3 hour review.”\nFor more information Contact Jerry Kasten at 906-942-7914
URL:https://www.westbranchsportsmensclub.com/index.php/event/michigan-cpl-class-thursday-sep-4th-9am-to-6pm/
LOCATION:WBSC\, 1888 Engman Lake Rd\, Skandia\, MI\, 49885\, United States
END:VEVENT
BEGIN:VEVENT
DTSTART;TZID=UTC:20250906T120000
DTEND;TZID=UTC:20250906T150000
DTSTAMP:20260425T164215
CREATED:20250519T163526Z
LAST-MODIFIED:20250519T163526Z
UID:789-1757160000-1757170800@www.westbranchsportsmensclub.com
SUMMARY:MCRGO UP Picnic September 6th at WBSC Club House!
DESCRIPTION:All are welcome to attend there will be Burgers and Hotdogs served free of charge. State and Local Officials will try and show up to update what is going on concerning 2A issues State wide as well. Also a discounted rate to join the Michigan Coalition for Responsible Gun owners is offered at this picnic. \n  \nHope to see you at the picnic.
URL:https://www.westbranchsportsmensclub.com/index.php/event/mcrgo-up-picnic-september-6th-at-wbsc-club-house/
LOCATION:WBSC\, 1888 Engman Lake Rd\, Skandia\, MI\, 49885\, United States
END:VEVENT
BEGIN:VEVENT
DTSTART;TZID=UTC:20250913T090000
DTEND;TZID=UTC:20250913T150000
DTSTAMP:20260425T164215
CREATED:20250611T160200Z
LAST-MODIFIED:20250820T182233Z
UID:796-1757754000-1757775600@www.westbranchsportsmensclub.com
SUMMARY:Club Grounds Clean Up September 13th at 9am
DESCRIPTION:We will be holding our monthly club clean up on Saturday September 13th starting at 9 AM if you have time come out and join us for another amazing maintenance day! \nRifle Range Roof – Outhouse Roof – Elevated Shooting Platform \nContact John Conrad if you have any questions. 906-250-7781
URL:https://www.westbranchsportsmensclub.com/index.php/event/club-grounds-clean-up-june-14th-at-9am/
LOCATION:WBSC\, 1888 Engman Lake Rd\, Skandia\, MI\, 49885\, United States
ORGANIZER;CN="John Conrad":MAILTO:ironbayjohn@yahoo.com
END:VEVENT
BEGIN:VEVENT
DTSTART;TZID=UTC:20250915T180000
DTEND;TZID=UTC:20250915T200000
DTSTAMP:20260425T164215
CREATED:20250825T125745Z
LAST-MODIFIED:20250829T175823Z
UID:829-1757959200-1757966400@www.westbranchsportsmensclub.com
SUMMARY:Michigan Legal considerations for the use of firearmsClass September 15th @ WBSC Club House
DESCRIPTION:Legal considerations for the use of firearms.\nJerry Kasten will offer a 2 hour Michigan Laws Legal considerations Class starting at 6:00 on September 15th at the club house. If you are interested please contact Jerry at 906-942-7914. \nHope to see you there!
URL:https://www.westbranchsportsmensclub.com/index.php/event/michigan-laws-update-class-september-15th-wbsc-club-house/
LOCATION:WBSC\, 1888 Engman Lake Rd\, Skandia\, MI\, 49885\, United States
END:VEVENT
BEGIN:VEVENT
DTSTART;TZID=UTC:20251101T100000
DTEND;TZID=UTC:20251101T150000
DTSTAMP:20260425T164215
CREATED:20251018T150131Z
LAST-MODIFIED:20251018T150131Z
UID:844-1761991200-1762009200@www.westbranchsportsmensclub.com
SUMMARY:Sight In Day November 1st Starting at 10 AM WBSC
DESCRIPTION:
URL:https://www.westbranchsportsmensclub.com/index.php/event/sight-in-day-november-1st-starting-at-10-am-wbsc/
LOCATION:WBSC\, 1888 Engman Lake Rd\, Skandia\, MI\, 49885\, United States
ORGANIZER;CN="John Conrad":MAILTO:ironbayjohn@yahoo.com
END:VEVENT
BEGIN:VEVENT
DTSTART;TZID=UTC:20251108T100000
DTEND;TZID=UTC:20251108T150000
DTSTAMP:20260425T164215
CREATED:20251018T150303Z
LAST-MODIFIED:20251018T150303Z
UID:847-1762596000-1762614000@www.westbranchsportsmensclub.com
SUMMARY:Sight In Day November 8th Starting at 10 AM WBSC
DESCRIPTION:
URL:https://www.westbranchsportsmensclub.com/index.php/event/sight-in-day-november-8th-starting-at-10-am-wbsc/
LOCATION:WBSC\, 1888 Engman Lake Rd\, Skandia\, MI\, 49885\, United States
ORGANIZER;CN="John Conrad":MAILTO:ironbayjohn@yahoo.com
END:VEVENT
BEGIN:VEVENT
DTSTART;TZID=UTC:20251129T080000
DTEND;TZID=UTC:20251129T170000
DTSTAMP:20260425T164215
CREATED:20241210T191144Z
LAST-MODIFIED:20251111T142231Z
UID:639-1764403200-1764435600@www.westbranchsportsmensclub.com
SUMMARY:CPL Class November 29th 2025
DESCRIPTION:CPL Class Offered by 906 Concealed Carry November 29th 2025\, contact Avery at 906-249-9205
URL:https://www.westbranchsportsmensclub.com/index.php/event/cpl-class-december-14th-2024/
LOCATION:WBSC\, 1888 Engman Lake Rd\, Skandia\, MI\, 49885\, United States
END:VEVENT
BEGIN:VEVENT
DTSTART;TZID=UTC:20251204T190000
DTEND;TZID=UTC:20251204T203000
DTSTAMP:20260425T164215
CREATED:20251118T150215Z
LAST-MODIFIED:20251118T150215Z
UID:864-1764874800-1764880200@www.westbranchsportsmensclub.com
SUMMARY:Kitchen Committee Meeting December 4th 2025 7 PM
DESCRIPTION:The Kitchen Committee will meet and discuss the feasibility of adding a kitchen to the rear of the building. If you have questions contact Dan Smith at 906-249-1781
URL:https://www.westbranchsportsmensclub.com/index.php/event/kitchen-committee-meeting-december-4th-2025-7-pm/
LOCATION:WBSC\, 1888 Engman Lake Rd\, Skandia\, MI\, 49885\, United States
END:VEVENT
BEGIN:VEVENT
DTSTART;TZID=UTC:20260112T200000
DTEND;TZID=UTC:20260112T203000
DTSTAMP:20260425T164215
CREATED:20241210T191358Z
LAST-MODIFIED:20251218T180432Z
UID:641-1768248000-1768249800@www.westbranchsportsmensclub.com
SUMMARY:Predator Hunt Meeting January 12th at WBSC
DESCRIPTION:We will be having a meeting January 12th 2026 after our regular meeting\, we will decide if another meeting happens before the start of this years Predator Hunt. Meeting Starts at around 8 see you there!
URL:https://www.westbranchsportsmensclub.com/index.php/event/predator-hunt-meeting-december-18th-at-wbsc/
LOCATION:WBSC\, 1888 Engman Lake Rd\, Skandia\, MI\, 49885\, United States
ORGANIZER;CN="Jeff Stevenson":MAILTO:secretary@westbranchsportsmensclub.com
END:VEVENT
BEGIN:VEVENT
DTSTART;TZID=UTC:20260128T170000
DTEND;TZID=UTC:20260128T190000
DTSTAMP:20260425T164215
CREATED:20251218T182658Z
LAST-MODIFIED:20251218T182658Z
UID:898-1769619600-1769626800@www.westbranchsportsmensclub.com
SUMMARY:UP Predator Banquette Setup Skandia Township Hall Wednesday January 28th 5 P.M.
DESCRIPTION:Setup at the Skandia Township Hall 224 Kreiger Drive\, Skandia Michigan \nCalling ALL West Branch Sportsmen’s Club Members!! We will be setting up for this years 24th Annual UP Predator Challenge on Wednesday January 28th 5 P.M. Please come and help if you are able. Thank You!
URL:https://www.westbranchsportsmensclub.com/index.php/event/up-predator-banquette-setup-skandia-township-hall-wednesday-january-28th-5-p-m/
LOCATION:Skandia Township Community\, 224 Krieger Drive\, Skandia\, MI\, 498855\, United States
ORGANIZER;CN="John Conrad":MAILTO:ironbayjohn@yahoo.com
END:VEVENT
BEGIN:VEVENT
DTSTART;TZID=UTC:20260129T160000
DTEND;TZID=UTC:20260129T193000
DTSTAMP:20260425T164215
CREATED:20251218T183249Z
LAST-MODIFIED:20251218T184701Z
UID:901-1769702400-1769715000@www.westbranchsportsmensclub.com
SUMMARY:24th Annual UP Predator Challenge Kick Off January 29th 2026 4 P.M. Skandia Township Hall
DESCRIPTION:Skandia Township Community Center 224 Kreiger Dr. – Skandia 4-7 p.m. Registration/*Mandatory Check-In* 4:30-7 p.m. Pasty Dinner $10.00 \nDoor Prizes – Bucket Raffles – Gun Raffle – Food -Fun and Prizes!! \n  \n 
URL:https://www.westbranchsportsmensclub.com/index.php/event/24th-annual-up-predator-kick-off-january-29th-2026-4-p-m-skandia-township-hall/
LOCATION:Skandia Township Community\, 224 Krieger Drive\, Skandia\, MI\, 498855\, United States
ORGANIZER;CN="John Conrad":MAILTO:ironbayjohn@yahoo.com
END:VEVENT
BEGIN:VEVENT
DTSTART;TZID=UTC:20260201T110000
DTEND;TZID=UTC:20260201T153000
DTSTAMP:20260425T164215
CREATED:20251218T184444Z
LAST-MODIFIED:20251218T184444Z
UID:903-1769943600-1769959800@www.westbranchsportsmensclub.com
SUMMARY:UP Predator Challenge Hunter Check In 11 A.M - 2 P.M. West Branch Sportsmen's Club 1888 Engman Lake Road
DESCRIPTION:West Branch Sportsmen’s ‘s Club 1888 Engman Lake Rd Skandia 11a.m.-2 p.m. Hunter check-In 12 p.m. Burger\, brats\, coffee and pop available **2 p.m. SHARP! Gate Closes!** 3 p.m. Prizes awarded. \n  \n50/50 Raffle – Knife Raffle- Rifle Raffle- Food – Bon Fire -Fun \nThis year we will be Raffling off a .21 Sharp Rifle with the stipulation that if we do not meet $350.00\, this raffle will be for the amount of money raised instead.
URL:https://www.westbranchsportsmensclub.com/index.php/event/up-predator-challenge-hunter-check-in-11-a-m-2-p-m-west-branch-sportsmens-club-1888-engman-lake-road/
LOCATION:WBSC\, 1888 Engman Lake Rd\, Skandia\, MI\, 49885\, United States
ORGANIZER;CN="John Conrad":MAILTO:ironbayjohn@yahoo.com
END:VEVENT
BEGIN:VEVENT
DTSTART;TZID=UTC:20260209T173000
DTEND;TZID=UTC:20260209T203000
DTSTAMP:20260425T164215
CREATED:20260204T162817Z
LAST-MODIFIED:20260206T201157Z
UID:933-1770658200-1770669000@www.westbranchsportsmensclub.com
SUMMARY:Monthly Meeting February 9th at 5:30PM
DESCRIPTION:Come and enjoy the members meeting and dinner on Monday February 9th 2026 \nSocial Hour 5:30 \nDinner at 6:15 Paul is cooking! \nMeeting starts at 7:00 \nBring a friend or two!!
URL:https://www.westbranchsportsmensclub.com/index.php/event/monthly-meeting-february-9th-at-530pm/
LOCATION:WBSC\, 1888 Engman Lake Rd\, Skandia\, MI\, 49885\, United States
ORGANIZER;CN="John Conrad":MAILTO:ironbayjohn@yahoo.com
END:VEVENT
BEGIN:VEVENT
DTSTART;TZID=UTC:20260223T180000
DTEND;TZID=UTC:20260223T200000
DTSTAMP:20260425T164215
CREATED:20250909T145542Z
LAST-MODIFIED:20260212T211042Z
UID:840-1771869600-1771876800@www.westbranchsportsmensclub.com
SUMMARY:Range Committee Meeting February 23rd at 6:30 PM at WBSC
DESCRIPTION:On Monday February 23rd at 6:30 PM the Range Committee will meet and discuss the 1\, 3 and 5 year plan for the club\, this meeting is open to everyone and your input is vital so we are able to create a Master Plan for the club.
URL:https://www.westbranchsportsmensclub.com/index.php/event/range-committee-meeting-6-pm-at-wbsc/
LOCATION:WBSC\, 1888 Engman Lake Rd\, Skandia\, MI\, 49885\, United States
ORGANIZER;CN="Avery Smith":MAILTO:office@906concealedcarry.com
END:VEVENT
BEGIN:VEVENT
DTSTART;TZID=UTC:20260309T173000
DTEND;TZID=UTC:20260309T203000
DTSTAMP:20260425T164215
CREATED:20240826T142314Z
LAST-MODIFIED:20260204T161121Z
UID:586-1773077400-1773088200@www.westbranchsportsmensclub.com
SUMMARY:Monthly Meeting March 9th at 5:30PM
DESCRIPTION:Come and enjoy the members meeting and dinner on Monday February 9th 2026 \nSocial Hour 5:30 \nDinner at 6:15 John C is cooking Brats and Burgers! \nMeeting starts at 7:00 \nBring a friend or two!! \n 
URL:https://www.westbranchsportsmensclub.com/index.php/event/monthly-meeting-september-9th-at-530pm/
LOCATION:WBSC\, 1888 Engman Lake Rd\, Skandia\, MI\, 49885\, United States
ORGANIZER;CN="John Conrad":MAILTO:ironbayjohn@yahoo.com
END:VEVENT
BEGIN:VEVENT
DTSTART;TZID=UTC:20260314T090000
DTEND;TZID=UTC:20260314T170000
DTSTAMP:20260425T164215
CREATED:20250725T172514Z
LAST-MODIFIED:20260310T134928Z
UID:819-1773478800-1773507600@www.westbranchsportsmensclub.com
SUMMARY:2ND Annual Yooper UP! Classic - March 14 2026 Standard Action Pistol Shoot
DESCRIPTION:MARK YOUR CALENDAR! \nMarch 14 2026 9 AM$30 Registration per event\, either open or stock class. \n 
URL:https://www.westbranchsportsmensclub.com/index.php/event/action-pistol-competition-saturday-july-26th-900-am/
LOCATION:WBSC\, 1888 Engman Lake Rd\, Skandia\, MI\, 49885\, United States
END:VEVENT
BEGIN:VEVENT
DTSTART;TZID=UTC:20260328T090000
DTEND;TZID=UTC:20260328T180000
DTSTAMP:20260425T164215
CREATED:20250717T160425Z
LAST-MODIFIED:20260310T133337Z
UID:813-1774688400-1774720800@www.westbranchsportsmensclub.com
SUMMARY:CPL class March 28th\, 9am to 6pm. By Jerry Kasten and Josh Emery
DESCRIPTION:Next CPL class is March 28th\, 9am to 6pm. Location is West Branch Sportsmen’s Club\, Skandia\, Mi. . Email or call (906 942 7914) to register or for more information.
URL:https://www.westbranchsportsmensclub.com/index.php/event/cpl-class-aug-9-9am-to-6pm-by-jerry-kasten/
LOCATION:WBSC\, 1888 Engman Lake Rd\, Skandia\, MI\, 49885\, United States
END:VEVENT
BEGIN:VEVENT
DTSTART;TZID=UTC:20260404T130000
DTEND;TZID=UTC:20260404T150000
DTSTAMP:20260425T164215
CREATED:20260216T154025Z
LAST-MODIFIED:20260310T133805Z
UID:943-1775307600-1775314800@www.westbranchsportsmensclub.com
SUMMARY:Saturday\, April 4th Biathlon Shoot at the club
DESCRIPTION:Saturday\, April 4th\,  we are holding an “old folks” Biathlon(no skiing\, only shooting). 50 yards\, any rim fire(22lr\, 22wmr\,17hmr)\, any sights\, will shoot 25 rounds standing (can use a sling)\, and 25 rounds on the bench(only arms for support\, no bags\, bi pods). Paper targets that are the actual size of the Olympic biathlon targets. Charge is $10 ( half to winner\, half to pay for targets and to the club). Come on out\, spare rifles/ammo will always be available.\nCall me at 906 942 7914 for any questions.
URL:https://www.westbranchsportsmensclub.com/index.php/event/biathlon-shoot-at-the-club-on-saturday-february-21st-starting-at-1pm/
LOCATION:WBSC\, 1888 Engman Lake Rd\, Skandia\, MI\, 49885\, United States
END:VEVENT
BEGIN:VEVENT
DTSTART;TZID=UTC:20260413T173000
DTEND;TZID=UTC:20260413T203000
DTSTAMP:20260425T164215
CREATED:20260206T201018Z
LAST-MODIFIED:20260206T201018Z
UID:937-1776101400-1776112200@www.westbranchsportsmensclub.com
SUMMARY:Monthly Meeting April 13th at 5:30PM
DESCRIPTION:Come and enjoy the members meeting and dinner on Monday February 9th 2026 \nWe will have a presentation from our Kitchen Relocation Committee and vote on weather to go ahead with the the Committee’s suggestion or weather to go back to cabinets and flooring upstairs at the clubhouse. \nSocial Hour 5:30 \nDinner at 6:15. \nMeeting starts at 7:00 \nBring a friend or two!!
URL:https://www.westbranchsportsmensclub.com/index.php/event/monthly-meeting-april-13th-at-530pm/
LOCATION:WBSC\, 1888 Engman Lake Rd\, Skandia\, MI\, 49885\, United States
ORGANIZER;CN="John Conrad":MAILTO:ironbayjohn@yahoo.com
END:VEVENT
END:VCALENDAR